BEGIN:VCALENDAR
VERSION:2.0
PRODID:-//Castanha é vinovèl - ECPv6.15.14//NONSGML v1.0//EN
CALSCALE:GREGORIAN
METHOD:PUBLISH
X-ORIGINAL-URL:https://castanha-e-vinovel.fr
X-WR-CALDESC:Évènements pour Castanha é vinovèl
REFRESH-INTERVAL;VALUE=DURATION:PT1H
X-Robots-Tag:noindex
X-PUBLISHED-TTL:PT1H
BEGIN:VTIMEZONE
TZID:Europe/Paris
BEGIN:DAYLIGHT
TZOFFSETFROM:+0100
TZOFFSETTO:+0200
TZNAME:CEST
DTSTART:20250330T010000
END:DAYLIGHT
BEGIN:STANDARD
TZOFFSETFROM:+0200
TZOFFSETTO:+0100
TZNAME:CET
DTSTART:20251026T010000
END:STANDARD
BEGIN:DAYLIGHT
TZOFFSETFROM:+0100
TZOFFSETTO:+0200
TZNAME:CEST
DTSTART:20260329T010000
END:DAYLIGHT
BEGIN:STANDARD
TZOFFSETFROM:+0200
TZOFFSETTO:+0100
TZNAME:CET
DTSTART:20261025T010000
END:STANDARD
BEGIN:DAYLIGHT
TZOFFSETFROM:+0100
TZOFFSETTO:+0200
TZNAME:CEST
DTSTART:20270328T010000
END:DAYLIGHT
BEGIN:STANDARD
TZOFFSETFROM:+0200
TZOFFSETTO:+0100
TZNAME:CET
DTSTART:20271031T010000
END:STANDARD
END:VTIMEZONE
BEGIN:VEVENT
DTSTART;TZID=Europe/Paris:20260207T213000
DTEND;TZID=Europe/Paris:20260207T213000
DTSTAMP:20260423T170745
CREATED:20260109T104033Z
LAST-MODIFIED:20260127T102634Z
UID:2332-1770499800-1770499800@castanha-e-vinovel.fr
SUMMARY:BALÈTI DE LA SAN BLASI; 7 FÉVRIER; 34120 Pézenas
DESCRIPTION:Foyer des Campagnes\nPlace Frédéric Mistral\n34120 Pézenas \nFête de la San Blasi dans le cadre du carnaval de Pézenas \n– 21h30 Balèti Castanha é Vinovèl amb Mèstre Cabirol\n– Buvette et Restauration sur place\n– Entrée libre
URL:https://castanha-e-vinovel.fr/event/baleti-de-la-san-blasi-7-fevrier-34120-pezenas/
CATEGORIES:tous
END:VEVENT
BEGIN:VEVENT
DTSTART;TZID=Europe/Paris:20260214T210000
DTEND;TZID=Europe/Paris:20260214T210000
DTSTAMP:20260423T170745
CREATED:20251115T092302Z
LAST-MODIFIED:20260201T224409Z
UID:2265-1771102800-1771102800@castanha-e-vinovel.fr
SUMMARY:SOIRÉE BALÈTI\, 14 Février; 07140 Les Assions
DESCRIPTION:Salle Polyvalente\nPlace de la Mairie\n07140 Les Assions \n– 21h Balèti Castanha é Vinovèl\n– Buvette et petite restauration sur place\n– Entrée 10 €
URL:https://castanha-e-vinovel.fr/event/soiree-baleti-14-fevrier-07140-les-assions/
CATEGORIES:tous
END:VEVENT
BEGIN:VEVENT
DTSTART;TZID=Europe/Paris:20260221T210000
DTEND;TZID=Europe/Paris:20260221T210000
DTSTAMP:20260423T170745
CREATED:20251115T092922Z
LAST-MODIFIED:20260201T224254Z
UID:2267-1771707600-1771707600@castanha-e-vinovel.fr
SUMMARY:MACARELADA 2026; 21 FÉVRIER; 09600 Laroque d'Olmes
DESCRIPTION:MJC\nAvenue Gabriel Peri\n09600 Laroque d’Olmes \nGranda Macarelada organisé par Denis Cantournet\n– 17h30 Théâtre avec les Galejaires\n– 19h Apéro et Repas\n– 21h Balèti Castanha é Vinovèl (Fr)\n– 22h30 Balèti La Péra  Doussa (It) \n– Buvette et Restauration sur place au profit de l’Institut d’Estudis Occitan (09)\n– Entrée gratuite
URL:https://castanha-e-vinovel.fr/event/macarelada-21-fevrier-09600-laroque-dolmes/
CATEGORIES:tous
END:VEVENT
BEGIN:VEVENT
DTSTART;TZID=Europe/Paris:20260228T210000
DTEND;TZID=Europe/Paris:20260228T210000
DTSTAMP:20260423T170745
CREATED:20251115T093756Z
LAST-MODIFIED:20251212T122216Z
UID:2269-1772312400-1772312400@castanha-e-vinovel.fr
SUMMARY:BAL FOLK; 28 FÉVRIER; 17810 Nieul-les-Saintes
DESCRIPTION:Salle des Fêtes\n17810 Nieul-les-Saintes \n– 14h à 17h Atelier de danses Occitanes amb Mèstre Cabirol\n– 21h Balèti Castanha é Vinovèl\n– 23h Balèti Agrifolium \nStage 8€ – Bal 12€ – Stage + Bal 17€
URL:https://castanha-e-vinovel.fr/event/bal-folk-28-fevrier-17810-nieul-les-saintes/
CATEGORIES:tous
END:VEVENT
END:VCALENDAR