BEGIN:VCALENDAR
VERSION:2.0
PRODID:-//Castanha é vinovèl - ECPv6.15.14//NONSGML v1.0//EN
CALSCALE:GREGORIAN
METHOD:PUBLISH
X-WR-CALNAME:Castanha é vinovèl
X-ORIGINAL-URL:https://castanha-e-vinovel.fr
X-WR-CALDESC:Évènements pour Castanha é vinovèl
REFRESH-INTERVAL;VALUE=DURATION:PT1H
X-Robots-Tag:noindex
X-PUBLISHED-TTL:PT1H
BEGIN:VTIMEZONE
TZID:Europe/Paris
BEGIN:DAYLIGHT
TZOFFSETFROM:+0100
TZOFFSETTO:+0200
TZNAME:CEST
DTSTART:20240331T010000
END:DAYLIGHT
BEGIN:STANDARD
TZOFFSETFROM:+0200
TZOFFSETTO:+0100
TZNAME:CET
DTSTART:20241027T010000
END:STANDARD
BEGIN:DAYLIGHT
TZOFFSETFROM:+0100
TZOFFSETTO:+0200
TZNAME:CEST
DTSTART:20250330T010000
END:DAYLIGHT
BEGIN:STANDARD
TZOFFSETFROM:+0200
TZOFFSETTO:+0100
TZNAME:CET
DTSTART:20251026T010000
END:STANDARD
BEGIN:DAYLIGHT
TZOFFSETFROM:+0100
TZOFFSETTO:+0200
TZNAME:CEST
DTSTART:20260329T010000
END:DAYLIGHT
BEGIN:STANDARD
TZOFFSETFROM:+0200
TZOFFSETTO:+0100
TZNAME:CET
DTSTART:20261025T010000
END:STANDARD
END:VTIMEZONE
BEGIN:VEVENT
DTSTART;TZID=Europe/Paris:20250801T204500
DTEND;TZID=Europe/Paris:20250801T230000
DTSTAMP:20260424T024747
CREATED:20250416T070011Z
LAST-MODIFIED:20250723T123523Z
UID:2173-1754081100-1754089200@castanha-e-vinovel.fr
SUMMARY:BAL D'ESTIU\, 1er Août\, 34340 Marseillan
DESCRIPTION:Esplanade du Port\n34340 Marseillan \n– 19h30 Initiation aux danses Occitanes amb Mèstre Cabirol\n– 20h45 Balèti Castanha é Vinovèl amb Mèstre de danse\n– Buvette et restauration sur place
URL:https://castanha-e-vinovel.fr/event/bal-destiu-1er-aout-34340-marseillan/
CATEGORIES:tous
END:VEVENT
BEGIN:VEVENT
DTSTART;TZID=Europe/Paris:20250803T220000
DTEND;TZID=Europe/Paris:20250803T220000
DTSTAMP:20260424T024747
CREATED:20250405T040718Z
LAST-MODIFIED:20250723T142724Z
UID:2157-1754258400-1754258400@castanha-e-vinovel.fr
SUMMARY:FÊTE DE LA SAINT-ÉLOI\, 3 Août\, 13780 Cuges-Les-Pins
DESCRIPTION:Place Léonard Blanc\n(devant l’école Paul et Suzanne Chouquet)\n13780 Cuges-les-Pins \n– 22h Balèti Castanha é Vinovèl\n– OOh30 Remise de la Bride\n– Buvette et sandwichs sur place
URL:https://castanha-e-vinovel.fr/event/bal-trad-3-aout-13780-cuges-les-pins/
CATEGORIES:tous
END:VEVENT
BEGIN:VEVENT
DTSTART;TZID=Europe/Paris:20250806T220000
DTEND;TZID=Europe/Paris:20250806T220000
DTSTAMP:20260424T024747
CREATED:20250622T164306Z
LAST-MODIFIED:20250723T122851Z
UID:2204-1754517600-1754517600@castanha-e-vinovel.fr
SUMMARY:GRANDE FÊTE RÉPUBLICAINE\, 6 Août\, 66220 Caudiès-de-Fenouillèdes
DESCRIPTION:Place de la Mairie\n66220 Caudiès-de-Fenouillèdes\n\n– 19H30 Apéro offert par l’Association\n– 20h repas (réservation Jean-Pierre 06 60 48 30 09)\n– 22h Balèti Castanha é Vinovèl\n– Buvette et restauration sur place\n– Entrée gratuite
URL:https://castanha-e-vinovel.fr/event/fete-de-la-federation/
CATEGORIES:tous
END:VEVENT
BEGIN:VEVENT
DTSTART;TZID=Europe/Paris:20250808T210000
DTEND;TZID=Europe/Paris:20250808T210000
DTSTAMP:20260424T024747
CREATED:20250604T170626Z
LAST-MODIFIED:20250723T135327Z
UID:2191-1754686800-1754686800@castanha-e-vinovel.fr
SUMMARY:FÈSTA OCCITANA\, 8 Août\, 47140 Frespech
DESCRIPTION:Musée du Foie Gras\n1010 route de Comberatière\n47140 Frespech \n– 21h Balèti amb Castanha é Vinovèl \n– Buvette et restauration sur place\n– Entrée gratuite
URL:https://castanha-e-vinovel.fr/event/festa-occitana-8-aout-47140-frespech/
CATEGORIES:tous
END:VEVENT
BEGIN:VEVENT
DTSTART;TZID=Europe/Paris:20250809T193000
DTEND;TZID=Europe/Paris:20250809T233000
DTSTAMP:20260424T024747
CREATED:20250604T171339Z
LAST-MODIFIED:20250723T135245Z
UID:2193-1754767800-1754782200@castanha-e-vinovel.fr
SUMMARY:SON DERA GARONA\, 9 Août\, 25598 Salardù (Esp)
DESCRIPTION:Plaça Major de Salardù\n25598 Salardù \n– 19h30 à 20h30 1er partie initiation danse Amb Fabiota\n– 20h30 Repas\n– 21h30 Balèti Castanha é Vinovèl amb Fabiota\n– Buvette et restauration sur place (Eth Gris) \nEntrée Gratuite
URL:https://castanha-e-vinovel.fr/event/son-dera-garona-9-aout-25598-salardu-esp/
CATEGORIES:tous
END:VEVENT
BEGIN:VEVENT
DTSTART;TZID=Europe/Paris:20250814T193000
DTEND;TZID=Europe/Paris:20250814T233000
DTSTAMP:20260424T024747
CREATED:20250405T030121Z
LAST-MODIFIED:20250405T030231Z
UID:2154-1755199800-1755214200@castanha-e-vinovel.fr
SUMMARY:FESTI' FOLK\, 14 Août\, 13410 Lambesc
DESCRIPTION:Place Jean Jaurès\n13410 Lambesc \nProgramme : \n\n– 19:30  CASTANHA et VINOVEL – bal enfants en première partie \n– 22:00  FOLK YOU \n– Buvette et restauration sur place\n– Entrée Gratuite
URL:https://castanha-e-vinovel.fr/event/festi-folk-14-aout-13410-lambesc/
CATEGORIES:tous
END:VEVENT
BEGIN:VEVENT
DTSTART;TZID=Europe/Paris:20250816T190000
DTEND;TZID=Europe/Paris:20250816T203000
DTSTAMP:20260424T024747
CREATED:20250623T090135Z
LAST-MODIFIED:20250723T135217Z
UID:2209-1755370800-1755376200@castanha-e-vinovel.fr
SUMMARY:FÉRIA BÉZIERS VILATGE OCCITAN\, 16 Août\, 34500 Béziers
DESCRIPTION:École casimir Péret\nAvenue Pierre Verdier\n34500 Béziers \n– 19h à 20h30 Balèti Castanha é Vinovèl\nBuvette et restauration sur place\nEntrée Gratuite
URL:https://castanha-e-vinovel.fr/event/feria-beziers-vilatge-occitan-16-aout-34500-beziers/
CATEGORIES:tous
END:VEVENT
BEGIN:VEVENT
DTSTART;TZID=Europe/Paris:20250820T193000
DTEND;TZID=Europe/Paris:20250820T213000
DTSTAMP:20260424T024747
CREATED:20250604T172719Z
LAST-MODIFIED:20250723T135147Z
UID:2195-1755718200-1755725400@castanha-e-vinovel.fr
SUMMARY:MARCHÉ GOURMAND\, 20 Août\, 11420 Belpech
DESCRIPTION:Place de l’église\n11420 Belpech \n– 19h30 Balèti Castanha é Vinovèl amb Mèstre Cabirol\n– Petite restauration et boissons sur place (sur le marché)
URL:https://castanha-e-vinovel.fr/event/marche-gourmand-20-aout-11420-belpech/
CATEGORIES:tous
END:VEVENT
BEGIN:VEVENT
DTSTART;TZID=Europe/Paris:20250830T180000
DTEND;TZID=Europe/Paris:20250830T230000
DTSTAMP:20260424T024747
CREATED:20250405T042610Z
LAST-MODIFIED:20250723T134929Z
UID:2159-1756576800-1756594800@castanha-e-vinovel.fr
SUMMARY:LA BELLE ÉPOQUE A MONZE\, 30 Août\, 11800 Monze
DESCRIPTION:Bordure du cours d’eau\nLa Bretonne\n11800 Monze \n– 18h Initiation danses Occitanes amb Mèstre Cabirol\n– 19h Apéritif et repas\n– 21h Balèti Castanha é Vinovèl\n– Buvette et restauration sur place\n– Entrée Gratuite
URL:https://castanha-e-vinovel.fr/event/il-etait-une-fois-la-belle-epoque-30-aout-11800-monze/
CATEGORIES:tous
END:VEVENT
END:VCALENDAR