BEGIN:VCALENDAR
VERSION:2.0
PRODID:-//Castanha é vinovèl - ECPv6.15.14//NONSGML v1.0//EN
CALSCALE:GREGORIAN
METHOD:PUBLISH
X-WR-CALNAME:Castanha é vinovèl
X-ORIGINAL-URL:https://castanha-e-vinovel.fr
X-WR-CALDESC:Évènements pour Castanha é vinovèl
REFRESH-INTERVAL;VALUE=DURATION:PT1H
X-Robots-Tag:noindex
X-PUBLISHED-TTL:PT1H
BEGIN:VTIMEZONE
TZID:Europe/Paris
BEGIN:DAYLIGHT
TZOFFSETFROM:+0100
TZOFFSETTO:+0200
TZNAME:CEST
DTSTART:20240331T010000
END:DAYLIGHT
BEGIN:STANDARD
TZOFFSETFROM:+0200
TZOFFSETTO:+0100
TZNAME:CET
DTSTART:20241027T010000
END:STANDARD
BEGIN:DAYLIGHT
TZOFFSETFROM:+0100
TZOFFSETTO:+0200
TZNAME:CEST
DTSTART:20250330T010000
END:DAYLIGHT
BEGIN:STANDARD
TZOFFSETFROM:+0200
TZOFFSETTO:+0100
TZNAME:CET
DTSTART:20251026T010000
END:STANDARD
BEGIN:DAYLIGHT
TZOFFSETFROM:+0100
TZOFFSETTO:+0200
TZNAME:CEST
DTSTART:20260329T010000
END:DAYLIGHT
BEGIN:STANDARD
TZOFFSETFROM:+0200
TZOFFSETTO:+0100
TZNAME:CET
DTSTART:20261025T010000
END:STANDARD
END:VTIMEZONE
BEGIN:VEVENT
DTSTART;TZID=Europe/Paris:20250705T210000
DTEND;TZID=Europe/Paris:20250705T230000
DTSTAMP:20260424T040427
CREATED:20250411T055322Z
LAST-MODIFIED:20250411T060219Z
UID:2169-1751749200-1751756400@castanha-e-vinovel.fr
SUMMARY:FOIRE À L'OIGNON DOUX\, 5 juillet\, 34120 Lézignan-la-Cèbe
DESCRIPTION:Esplanade\n34120 Lézignan-la-Cèbe \nSamedi 5 juillet 2024\, à partir de 16h30\, aura lieu la 15ème édition de la Foire aux oignons doux de Lézignan sur l’esplanade de Lézignan-la-Cèbe. Cet événement incontournable célèbre notre célèbre variété locale\, la Cèbe de Lézignan\, et réunit producteurs\, artisans et amateurs de produits du terroir. \nSamedi 5 juillet 2024 de 17h à 23h Esplanade de Lézignan-la-Cèbe\n\nAu programme:\n16h30 – Déambulation de la Cèbe totémique\n17h30 – Accueil des partenaires au stand des partenairess et\, début de la vente des véritables Cèbes de Lézignan sur le stand des Producteurs d’oignons doux réunis ; le véritable oignon c’est la pleine saison\n17h30 – Marché de producteurs\n18h00 – Démonstration d’empaquetage (création de bottes) de cèbes\n18h30 – Concours de « la plus grosse cèbe » en 2 catégories ; amateurs puis professionnels\n19h – Buvette et assiettes fermières en direct des producteurs à consommer sur place avec mise à l’honneur du produit et de la qualité gustative de la Cèbe dans les assiettes fermières proposées\n21 h – Animation musicale type Balèti Occitan « Castanha e Vinovèl » \nUne occasion idéale de rencontrer les producteurs passionnés\, de découvrir leurs savoir-faire ancestraux et de passer un moment convivial en famille ou entre amis !
URL:https://castanha-e-vinovel.fr/event/foire-a-loignon-doux-5-juillet-34120-lezignan-la-cebe/
CATEGORIES:tous
END:VEVENT
BEGIN:VEVENT
DTSTART;TZID=Europe/Paris:20250725T210000
DTEND;TZID=Europe/Paris:20250725T230000
DTSTAMP:20260424T040427
CREATED:20250604T165444Z
LAST-MODIFIED:20250723T123657Z
UID:2189-1753477200-1753484400@castanha-e-vinovel.fr
SUMMARY:LES PÉLICANADES\, 25 juillet\, 34620 Puisserguier
DESCRIPTION:Avenue de Toulouse\n34620 Puisserguier \n– 21h Balèti Castanha é Vinovèl\n– Buvette et restauration sur place (Bodega Patatr’OC)
URL:https://castanha-e-vinovel.fr/event/les-pelicanades-25-juillet-34620-puisserguier/
CATEGORIES:tous
END:VEVENT
END:VCALENDAR