BEGIN:VCALENDAR
VERSION:2.0
PRODID:-//Castanha é vinovèl - ECPv6.15.14//NONSGML v1.0//EN
CALSCALE:GREGORIAN
METHOD:PUBLISH
X-WR-CALNAME:Castanha é vinovèl
X-ORIGINAL-URL:https://castanha-e-vinovel.fr
X-WR-CALDESC:Évènements pour Castanha é vinovèl
REFRESH-INTERVAL;VALUE=DURATION:PT1H
X-Robots-Tag:noindex
X-PUBLISHED-TTL:PT1H
BEGIN:VTIMEZONE
TZID:Europe/Paris
BEGIN:DAYLIGHT
TZOFFSETFROM:+0100
TZOFFSETTO:+0200
TZNAME:CEST
DTSTART:20240331T010000
END:DAYLIGHT
BEGIN:STANDARD
TZOFFSETFROM:+0200
TZOFFSETTO:+0100
TZNAME:CET
DTSTART:20241027T010000
END:STANDARD
BEGIN:DAYLIGHT
TZOFFSETFROM:+0100
TZOFFSETTO:+0200
TZNAME:CEST
DTSTART:20250330T010000
END:DAYLIGHT
BEGIN:STANDARD
TZOFFSETFROM:+0200
TZOFFSETTO:+0100
TZNAME:CET
DTSTART:20251026T010000
END:STANDARD
BEGIN:DAYLIGHT
TZOFFSETFROM:+0100
TZOFFSETTO:+0200
TZNAME:CEST
DTSTART:20260329T010000
END:DAYLIGHT
BEGIN:STANDARD
TZOFFSETFROM:+0200
TZOFFSETTO:+0100
TZNAME:CET
DTSTART:20261025T010000
END:STANDARD
END:VTIMEZONE
BEGIN:VEVENT
DTSTART;TZID=Europe/Paris:20250607T210000
DTEND;TZID=Europe/Paris:20250607T210000
DTSTAMP:20260424T053000
CREATED:20250125T074206Z
LAST-MODIFIED:20250513T144935Z
UID:2097-1749330000-1749330000@castanha-e-vinovel.fr
SUMMARY:FESTA DE LA CARDABÈLA\, 7 JUIN\, 34520 SORBS
DESCRIPTION:Place de l’église\n34520 Sorbs \n– 19h30 Apéro et Repas\n– 21H Balèti Castanha é Vinovèl amb Mèstre Cabirol \n– Buvette et petite restauration sur place\n– Entrée gratuite
URL:https://castanha-e-vinovel.fr/event/total-festum-2025-7-juin-34520-sorbs/
CATEGORIES:tous
END:VEVENT
BEGIN:VEVENT
DTSTART;TZID=Europe/Paris:20250614T210000
DTEND;TZID=Europe/Paris:20250614T210000
DTSTAMP:20260424T053000
CREATED:20250125T075449Z
LAST-MODIFIED:20250604T162107Z
UID:2099-1749934800-1749934800@castanha-e-vinovel.fr
SUMMARY:TOTAL FESTUM PARATGE 2025\, 14 JUIN\, 34410 SÉRIGNAN
DESCRIPTION:  \n  \n  \nParc de la Cigalière\n34410 Sérignan \n– 21h Balèti Castanha é Vinovèl amb Mèstre Cabirol\n– Buvette et restauration sur place\n– Entrée gratuite
URL:https://castanha-e-vinovel.fr/event/total-festum-paratge-2025-14-juin-34410-serignan/
CATEGORIES:tous
END:VEVENT
BEGIN:VEVENT
DTSTART;TZID=Europe/Paris:20250617T110000
DTEND;TZID=Europe/Paris:20250617T160000
DTSTAMP:20260424T053000
CREATED:20250317T124039Z
LAST-MODIFIED:20250317T124039Z
UID:2125-1750158000-1750176000@castanha-e-vinovel.fr
SUMMARY:ENCONTRADAS 2025\, 17 Juin\, 48000 Mende
DESCRIPTION:  \n  \n  \n  \n  \n  \n  \n  \n– 11h\, 13h15\, 14h15 – 3 Ateliers de danses pour enfants avec Castanha é Vinovèl\net Hélène Pagès la maitresse de danse.
URL:https://castanha-e-vinovel.fr/event/encontradas-2025-17-juin-48000-mende/
CATEGORIES:tous
END:VEVENT
BEGIN:VEVENT
DTSTART;TZID=Europe/Paris:20250623T180000
DTEND;TZID=Europe/Paris:20250623T220000
DTSTAMP:20260424T053000
CREATED:20250125T075852Z
LAST-MODIFIED:20250604T100132Z
UID:2101-1750701600-1750716000@castanha-e-vinovel.fr
SUMMARY:TOTAL FESTUM 2025\, 23 JUIN\, 11430 GRUISSAN
DESCRIPTION:  \n  \n  \nPlace Gibert\n11430 Gruissan \n– 17h30 Balèti Enfants\n– 19h Apéro et Repas\n– 20h Balèti Castanha é Vinovèl amb Mèstre Cabirol\n– 22h30 Spectacle de Feu \nBuvette et Restauration sur place\nRéservation repas au 04 68 49 61 87
URL:https://castanha-e-vinovel.fr/event/total-festum-2025-23-juin-11430-gruissan/
CATEGORIES:tous
END:VEVENT
BEGIN:VEVENT
DTSTART;TZID=Europe/Paris:20250624T210000
DTEND;TZID=Europe/Paris:20250624T233000
DTSTAMP:20260424T053000
CREATED:20250125T080524Z
LAST-MODIFIED:20250125T080524Z
UID:2103-1750798800-1750807800@castanha-e-vinovel.fr
SUMMARY:FEU DE LA SAINT-JEAN\, 24 JUIN\, 12400 SAINT-AFFRIQUE
DESCRIPTION:Place Foch\n12400 St-Affrique \n– 19h Apéro et Repas\n– 21h Balèti Castanha é Vinovèl
URL:https://castanha-e-vinovel.fr/event/feu-de-la-saint-jean-24-juin-12400-saint-affrique/
CATEGORIES:tous
END:VEVENT
END:VCALENDAR